BEGIN:VCALENDAR
VERSION:2.0
PRODID:-//AKV De Kromme Aar - ECPv6.15.20//NONSGML v1.0//EN
CALSCALE:GREGORIAN
METHOD:PUBLISH
X-ORIGINAL-URL:https://www.krommeaar.nl
X-WR-CALDESC:Evenementen voor AKV De Kromme Aar
REFRESH-INTERVAL;VALUE=DURATION:PT1H
X-Robots-Tag:noindex
X-PUBLISHED-TTL:PT1H
BEGIN:VTIMEZONE
TZID:Europe/Amsterdam
BEGIN:DAYLIGHT
TZOFFSETFROM:+0100
TZOFFSETTO:+0200
TZNAME:CEST
DTSTART:20220327T010000
END:DAYLIGHT
BEGIN:STANDARD
TZOFFSETFROM:+0200
TZOFFSETTO:+0100
TZNAME:CET
DTSTART:20221030T010000
END:STANDARD
BEGIN:DAYLIGHT
TZOFFSETFROM:+0100
TZOFFSETTO:+0200
TZNAME:CEST
DTSTART:20230326T010000
END:DAYLIGHT
BEGIN:STANDARD
TZOFFSETFROM:+0200
TZOFFSETTO:+0100
TZNAME:CET
DTSTART:20231029T010000
END:STANDARD
BEGIN:DAYLIGHT
TZOFFSETFROM:+0100
TZOFFSETTO:+0200
TZNAME:CEST
DTSTART:20240331T010000
END:DAYLIGHT
BEGIN:STANDARD
TZOFFSETFROM:+0200
TZOFFSETTO:+0100
TZNAME:CET
DTSTART:20241027T010000
END:STANDARD
BEGIN:DAYLIGHT
TZOFFSETFROM:+0100
TZOFFSETTO:+0200
TZNAME:CEST
DTSTART:20250330T010000
END:DAYLIGHT
BEGIN:STANDARD
TZOFFSETFROM:+0200
TZOFFSETTO:+0100
TZNAME:CET
DTSTART:20251026T010000
END:STANDARD
BEGIN:DAYLIGHT
TZOFFSETFROM:+0100
TZOFFSETTO:+0200
TZNAME:CEST
DTSTART:20260329T010000
END:DAYLIGHT
BEGIN:STANDARD
TZOFFSETFROM:+0200
TZOFFSETTO:+0100
TZNAME:CET
DTSTART:20261025T010000
END:STANDARD
BEGIN:DAYLIGHT
TZOFFSETFROM:+0100
TZOFFSETTO:+0200
TZNAME:CEST
DTSTART:20270328T010000
END:DAYLIGHT
BEGIN:STANDARD
TZOFFSETFROM:+0200
TZOFFSETTO:+0100
TZNAME:CET
DTSTART:20271031T010000
END:STANDARD
END:VTIMEZONE
BEGIN:VEVENT
DTSTART;TZID=Europe/Amsterdam:20260314T140000
DTEND;TZID=Europe/Amsterdam:20260314T160000
DTSTAMP:20260420T153905
CREATED:20260218T194658Z
LAST-MODIFIED:20260305T184717Z
UID:338976-1773496800-1773504000@www.krommeaar.nl
SUMMARY:Tweedehandsmarkt
DESCRIPTION:Vandaag de kans om je overtollige kano en kampeerspullen van de hand te doen\, en natuurlijk een kans om voor een mooie prijs kano en kampeerspullen over te nemen.\nDus ga naar je zolder en kijk of je nog bruikbare spullen over hebt. \nJaap Kraaijenga (van Kano Club Rotterdam) zal langskomen met demo-boten van Zastera en mogelijk gebruikte boten van de kanoclubs KCR en/of Natsec en mogelijk ook peddels.\nJaap is ook actief bij parakano (voor minder validen). Hij wil er graag iets over vertellen en laten zien.  \nParakano Home \n \nVerder\, als er leden zijn die graag met zelf gebakken cake of taart langs willen komen om het gezellig te maken\, dan wordt dat toegejuicht.
URL:https://www.krommeaar.nl/event/tweedehandsmarkt/
LOCATION:Kanohuis
CATEGORIES:Bijzondere activiteit
END:VEVENT
BEGIN:VEVENT
DTSTART;TZID=Europe/Amsterdam:20250920T170000
DTEND;TZID=Europe/Amsterdam:20250920T210000
DTSTAMP:20260420T153905
CREATED:20250902T152534Z
LAST-MODIFIED:20250902T173750Z
UID:338835-1758387600-1758402000@www.krommeaar.nl
SUMMARY:Barbecue - 20 september
DESCRIPTION:Op zaterdag 20 september 2025 houden we weer onze jaarlijkse AKV BBQ. Inloop in het clubhuis is vanaf 17:30 uur\, de BBQ start om 18 uur.\nGeef uiterlijk woensdag 17 september door met hoeveel personen je komt en of je vlees\, vis of vega (of combinatie) eet.\nDe kosten bedragen € 8\,00 t/m 15 jaar en € 14\,00 vanaf 16 jaar. \nLaden…
URL:https://www.krommeaar.nl/event/barbecue/
CATEGORIES:Bijzondere activiteit
END:VEVENT
BEGIN:VEVENT
DTSTART;TZID=Europe/Amsterdam:20250827T190000
DTEND;TZID=Europe/Amsterdam:20250827T210000
DTSTAMP:20260420T153905
CREATED:20220119T211016Z
LAST-MODIFIED:20250610T174554Z
UID:335923-1756321200-1756328400@www.krommeaar.nl
SUMMARY:Natte oefensessie Zegerplas
DESCRIPTION:Om 19 uur varen we vanaf de club naar de T-steiger in de Zegerplas om technieken te oefenen waarbij je nat wordt of waarbij de kans op nat worden aanzienlijk is. Daarbij kan je denken aan: \n– Omslaan met de kano en onderwater uitstappen\, zonder en met spatzeil\, zonder de lus van het spatzeil te gebruiken\, met de ogen dicht etc.\n– Lage steun\, hoge steun\, opkanten\, zijwaarts verplaatsen\n– Redding met hulp\, zelfredding\n– Allerlei balansoefeningen met de kano zoals  staan in de boot\, op het achterdek een rondje draaien\, overstappen in een andere boot etc. \nGeschikt voor iedereen die niet bang is voor water en ook voor hen die dat wel zijn!\nAanmelding is niet nodig.
URL:https://www.krommeaar.nl/event/natte-oefensessie-zeegerplas-3/
LOCATION:Kanohuis
CATEGORIES:Bijzondere activiteit
END:VEVENT
BEGIN:VEVENT
DTSTART;TZID=Europe/Amsterdam:20250730T190000
DTEND;TZID=Europe/Amsterdam:20250730T210000
DTSTAMP:20260420T153905
CREATED:20220124T201448Z
LAST-MODIFIED:20250610T174439Z
UID:335941-1753902000-1753909200@www.krommeaar.nl
SUMMARY:Natte oefensessie Zegerplas
DESCRIPTION:Om 19 uur varen we vanaf de club naar de T-steiger in de Zegerplas om technieken te oefenen waarbij je nat wordt of waarbij de kans op nat worden aanzienlijk is. Daarbij kan je denken aan: \n– Omslaan met de kano en onderwater uitstappen\, zonder en met spatzeil\, zonder de lus van het spatzeil te gebruiken\, met de ogen dicht etc.\n– Lage steun\, hoge steun\, opkanten\, zijwaarts verplaatsen\n– Redding met hulp\, zelfredding\n– Allerlei balansoefeningen met de kano zoals staan in de boot\, op het achterdek een rondje draaien\, overstappen in een andere boot etc. \nGeschikt voor iedereen die niet bang is voor water en ook voor hen die dat wel zijn!\nAanmelding is niet nodig.
URL:https://www.krommeaar.nl/event/natte-oefensessie-zeegerplas-4/
LOCATION:Kanohuis
CATEGORIES:Bijzondere activiteit
END:VEVENT
BEGIN:VEVENT
DTSTART;TZID=Europe/Amsterdam:20250706T170000
DTEND;TZID=Europe/Amsterdam:20250706T190000
DTSTAMP:20260420T153905
CREATED:20250601T142830Z
LAST-MODIFIED:20250626T071052Z
UID:338809-1751821200-1751828400@www.krommeaar.nl
SUMMARY:Zomerviering - 6 juli 2025
DESCRIPTION:Onder het genot van een drankje en een hapje een gezellig samenzijn in ons kanohuis en op het terras!
URL:https://www.krommeaar.nl/event/zomerbijeenkomst-6-juli-2025/
CATEGORIES:Bijzondere activiteit
END:VEVENT
BEGIN:VEVENT
DTSTART;TZID=Europe/Amsterdam:20250702T190000
DTEND;TZID=Europe/Amsterdam:20250702T210000
DTSTAMP:20260420T153905
CREATED:20220124T202826Z
LAST-MODIFIED:20250610T174201Z
UID:335955-1751482800-1751490000@www.krommeaar.nl
SUMMARY:Natte oefensessie Zegerplas
DESCRIPTION:Om 19 uur varen we vanaf de club naar de T-steiger in de Zegerplas om technieken te oefenen waarbij je nat wordt of waarbij de kans op nat worden aanzienlijk is. Daarbij kan je denken aan: \n– Omslaan met de kano en onderwater uitstappen\, zonder en met spatzeil\, zonder de lus van het spatzeil te gebruiken\, met de ogen dicht etc.\n– Lage steun\, hoge steun\, opkanten\, zijwaarts verplaatsen\n– Redding met hulp\, zelfredding\n– Allerlei balansoefeningen met de kano zoals staan in de boot\, op het achterdek een rondje draaien\, overstappen in een andere boot etc. \nGeschikt voor iedereen die niet bang is voor water en ook voor hen die dat wel zijn!\nAanmelding is niet nodig.
URL:https://www.krommeaar.nl/event/natte-oefensessie-zeegerplas-5/
LOCATION:Kanohuis
CATEGORIES:Bijzondere activiteit
END:VEVENT
BEGIN:VEVENT
DTSTART;TZID=Europe/Amsterdam:20250514T200000
DTEND;TZID=Europe/Amsterdam:20250514T223000
DTSTAMP:20260420T153905
CREATED:20250407T191512Z
LAST-MODIFIED:20250409T190332Z
UID:338772-1747252800-1747261800@www.krommeaar.nl
SUMMARY:ALV - 14 mei 2025
DESCRIPTION:
URL:https://www.krommeaar.nl/event/alv-14-mei-2025/
LOCATION:Kanohuis
CATEGORIES:Bijzondere activiteit
END:VEVENT
BEGIN:VEVENT
DTSTART;TZID=Europe/Amsterdam:20250105T160000
DTEND;TZID=Europe/Amsterdam:20250105T180000
DTSTAMP:20260420T153905
CREATED:20241212T175429Z
LAST-MODIFIED:20241212T175429Z
UID:338445-1736092800-1736100000@www.krommeaar.nl
SUMMARY:Nieuwjaarsbijeenkomst - 5 januari 2025
DESCRIPTION:
URL:https://www.krommeaar.nl/event/nieuwjaarsbijeenkomst-5-januari-2025/
LOCATION:Kanohuis
CATEGORIES:Bijzondere activiteit
END:VEVENT
BEGIN:VEVENT
DTSTART;TZID=Europe/Amsterdam:20240921T170000
DTEND;TZID=Europe/Amsterdam:20240921T213000
DTSTAMP:20260420T153905
CREATED:20240625T171822Z
LAST-MODIFIED:20240903T175225Z
UID:338207-1726938000-1726954200@www.krommeaar.nl
SUMMARY:Barbecue
DESCRIPTION:Op zaterdag 21 september 2024 houden we weer onze jaarlijkse AKV BBQ. Inloop in het clubhuis is vanaf 16u30\, de BBQ start om 17uur.\nGeef uiterlijk woensdag 18 september door met hoeveel personen je komt en of je vlees\, vis of vega (of combinatie) eet.\nDe kosten bedragen € 8\,00 t/m 15 jaar en € 14\,00 vanaf 16 jaar. \nLaden…
URL:https://www.krommeaar.nl/event/barbecue-21-september-2024/
LOCATION:Kanohuis
CATEGORIES:Bijzondere activiteit
END:VEVENT
BEGIN:VEVENT
DTSTART;TZID=Europe/Amsterdam:20240107T160000
DTEND;TZID=Europe/Amsterdam:20240107T180000
DTSTAMP:20260420T153905
CREATED:20240102T185812Z
LAST-MODIFIED:20240102T185812Z
UID:338051-1704643200-1704650400@www.krommeaar.nl
SUMMARY:Nieuwjaarsbijeenkomst
DESCRIPTION:
URL:https://www.krommeaar.nl/event/nieuwjaarsbijeenkomst-2/
LOCATION:Kanohuis
CATEGORIES:Bijzondere activiteit
END:VEVENT
BEGIN:VEVENT
DTSTART;TZID=Europe/Amsterdam:20231014T170000
DTEND;TZID=Europe/Amsterdam:20231014T220000
DTSTAMP:20260420T153905
CREATED:20230909T075738Z
LAST-MODIFIED:20230909T080520Z
UID:337873-1697302800-1697320800@www.krommeaar.nl
SUMMARY:Barbecue - 14 oktober 2023
DESCRIPTION:Op zaterdag 14 oktober 2023 houden we weer onze jaarlijkse AKV BBQ. Inloop in het clubhuis is vanaf 16u30\, de BBQ start om 17uur. \nGeef uiterlijk woensdag 11 oktober door met hoeveel personen je komt en of je vlees\, vis of vega (of combinatie) eet. \nDe kosten bedragen € 8\,00 t/m 15 jaar en € 12\,00 vanaf 16 jaar. \nLaden…
URL:https://www.krommeaar.nl/event/barbecue-14-oktober-2023/
LOCATION:Kanohuis
CATEGORIES:Bijzondere activiteit
END:VEVENT
BEGIN:VEVENT
DTSTART;TZID=Europe/Amsterdam:20230909T080000
DTEND;TZID=Europe/Amsterdam:20230911T170000
DTSTAMP:20260420T153905
CREATED:20230115T203636Z
LAST-MODIFIED:20230115T203636Z
UID:337088-1694246400-1694451600@www.krommeaar.nl
SUMMARY:Open kanofestival
DESCRIPTION:
URL:https://www.krommeaar.nl/event/open-kanofestival-2/
CATEGORIES:Bijzondere activiteit
END:VEVENT
BEGIN:VEVENT
DTSTART;TZID=Europe/Amsterdam:20230617T130000
DTEND;TZID=Europe/Amsterdam:20230617T200000
DTSTAMP:20260420T153905
CREATED:20230417T184005Z
LAST-MODIFIED:20230417T184259Z
UID:337719-1687006800-1687032000@www.krommeaar.nl
SUMMARY:Feestdag 40-jarig jubileum AKV
DESCRIPTION:Vandaag vieren we het 40-jarig bestaan van onze vereniging. Vanaf 13 uur zijn er sportieve wateractiviteiten op ons terrein\, met om 18 uur een kampvuurmaaltijd. \nZet de dag in je agenda en houd de berichten in de gaten. En reserveer ook 18 juni in je agenda!
URL:https://www.krommeaar.nl/event/feestdag-40-jarig-jubileum-akv/
LOCATION:Kanohuis
CATEGORIES:Bijzondere activiteit
END:VEVENT
END:VCALENDAR