BEGIN:VCALENDAR
VERSION:2.0
PRODID:-//AKV De Kromme Aar - ECPv6.15.20//NONSGML v1.0//EN
CALSCALE:GREGORIAN
METHOD:PUBLISH
X-WR-CALNAME:AKV De Kromme Aar
X-ORIGINAL-URL:https://www.krommeaar.nl
X-WR-CALDESC:Evenementen voor AKV De Kromme Aar
REFRESH-INTERVAL;VALUE=DURATION:PT1H
X-Robots-Tag:noindex
X-PUBLISHED-TTL:PT1H
BEGIN:VTIMEZONE
TZID:Europe/Amsterdam
BEGIN:DAYLIGHT
TZOFFSETFROM:+0100
TZOFFSETTO:+0200
TZNAME:CEST
DTSTART:20250330T010000
END:DAYLIGHT
BEGIN:STANDARD
TZOFFSETFROM:+0200
TZOFFSETTO:+0100
TZNAME:CET
DTSTART:20251026T010000
END:STANDARD
BEGIN:DAYLIGHT
TZOFFSETFROM:+0100
TZOFFSETTO:+0200
TZNAME:CEST
DTSTART:20260329T010000
END:DAYLIGHT
BEGIN:STANDARD
TZOFFSETFROM:+0200
TZOFFSETTO:+0100
TZNAME:CET
DTSTART:20261025T010000
END:STANDARD
BEGIN:DAYLIGHT
TZOFFSETFROM:+0100
TZOFFSETTO:+0200
TZNAME:CEST
DTSTART:20270328T010000
END:DAYLIGHT
BEGIN:STANDARD
TZOFFSETFROM:+0200
TZOFFSETTO:+0100
TZNAME:CET
DTSTART:20271031T010000
END:STANDARD
END:VTIMEZONE
BEGIN:VEVENT
DTSTART;TZID=Europe/Amsterdam:20260926T080000
DTEND;TZID=Europe/Amsterdam:20260927T170000
DTSTAMP:20260420T230217
CREATED:20260112T202743Z
LAST-MODIFIED:20260112T202743Z
UID:338943-1790409600-1790528400@www.krommeaar.nl
SUMMARY:Waal (1 of 2 dagen)
DESCRIPTION:
URL:https://www.krommeaar.nl/event/waal-1-of-2-dagen/
CATEGORIES:Grootwater/zeetocht
END:VEVENT
END:VCALENDAR