BEGIN:VCALENDAR
VERSION:2.0
PRODID:-//AKV De Kromme Aar - ECPv6.15.20//NONSGML v1.0//EN
CALSCALE:GREGORIAN
METHOD:PUBLISH
X-ORIGINAL-URL:https://www.krommeaar.nl
X-WR-CALDESC:Evenementen voor AKV De Kromme Aar
REFRESH-INTERVAL;VALUE=DURATION:PT1H
X-Robots-Tag:noindex
X-PUBLISHED-TTL:PT1H
BEGIN:VTIMEZONE
TZID:Europe/Amsterdam
BEGIN:DAYLIGHT
TZOFFSETFROM:+0100
TZOFFSETTO:+0200
TZNAME:CEST
DTSTART:20240331T010000
END:DAYLIGHT
BEGIN:STANDARD
TZOFFSETFROM:+0200
TZOFFSETTO:+0100
TZNAME:CET
DTSTART:20241027T010000
END:STANDARD
BEGIN:DAYLIGHT
TZOFFSETFROM:+0100
TZOFFSETTO:+0200
TZNAME:CEST
DTSTART:20250330T010000
END:DAYLIGHT
BEGIN:STANDARD
TZOFFSETFROM:+0200
TZOFFSETTO:+0100
TZNAME:CET
DTSTART:20251026T010000
END:STANDARD
BEGIN:DAYLIGHT
TZOFFSETFROM:+0100
TZOFFSETTO:+0200
TZNAME:CEST
DTSTART:20260329T010000
END:DAYLIGHT
BEGIN:STANDARD
TZOFFSETFROM:+0200
TZOFFSETTO:+0100
TZNAME:CET
DTSTART:20261025T010000
END:STANDARD
END:VTIMEZONE
BEGIN:VEVENT
DTSTART;TZID=Europe/Amsterdam:20250802T080000
DTEND;TZID=Europe/Amsterdam:20250803T170000
DTSTAMP:20260421T050442
CREATED:20250203T194425Z
LAST-MODIFIED:20250719T202238Z
UID:338537-1754121600-1754240400@www.krommeaar.nl
SUMMARY:2 & 3 augustus - IJssel 2-daagse
DESCRIPTION:Net als een jaar of 6\, 7 geleden gaan we weer in 2 dagen de prachtige IJssel afvaren en net als toen starten we in de Steeg.\nNa afloop van de eerste dag kamperen we op de Deventer stadscamping die aan de IJssel ligt. Op dag 2 varen we door naar Hattem\, waar we op dag 1 een auto hebben achtergelaten. \nVoor je je aanmeldt\, denk even na over het volgende:\n– op dag 1 varen we 55 kilometer waarvan we\, afhankelijk van de stroming\, 15 tot 20 km. cadeau krijgen.\n  Dat betekent dat je zonder problemen 35 moet kunnen varen op eigen kracht.\n– op dag 2 varen we ‘slechts’ 35 km. maar dan heb je misschien nog de inspanning van de vorige dag in de armen. \nVerder is het goed om te beseffen dat er op dag 1 geen mogelijkheid is om eerder te stoppen\, er rijdt geen bezemwagen mee.\nMocht je op dag 2 besluiten om niet door te varen\, dan kunnnen we je na afloop wel ergens ophalen.   \nOp woensdag 30 juli is er een voorbespreking waarin we het zullen hebben over o.a. het vervoer\, vertrektijd enz.  \nLaden…
URL:https://www.krommeaar.nl/event/2-3-augustus-ijssel-2-daagse/
CATEGORIES:Meerdaagse binnenwatertocht
END:VEVENT
END:VCALENDAR