BEGIN:VCALENDAR
VERSION:2.0
PRODID:-//AKV De Kromme Aar - ECPv6.15.20//NONSGML v1.0//EN
CALSCALE:GREGORIAN
METHOD:PUBLISH
X-ORIGINAL-URL:https://www.krommeaar.nl
X-WR-CALDESC:Evenementen voor AKV De Kromme Aar
REFRESH-INTERVAL;VALUE=DURATION:PT1H
X-Robots-Tag:noindex
X-PUBLISHED-TTL:PT1H
BEGIN:VTIMEZONE
TZID:Europe/Amsterdam
BEGIN:DAYLIGHT
TZOFFSETFROM:+0100
TZOFFSETTO:+0200
TZNAME:CEST
DTSTART:20220327T010000
END:DAYLIGHT
BEGIN:STANDARD
TZOFFSETFROM:+0200
TZOFFSETTO:+0100
TZNAME:CET
DTSTART:20221030T010000
END:STANDARD
BEGIN:DAYLIGHT
TZOFFSETFROM:+0100
TZOFFSETTO:+0200
TZNAME:CEST
DTSTART:20230326T010000
END:DAYLIGHT
BEGIN:STANDARD
TZOFFSETFROM:+0200
TZOFFSETTO:+0100
TZNAME:CET
DTSTART:20231029T010000
END:STANDARD
BEGIN:DAYLIGHT
TZOFFSETFROM:+0100
TZOFFSETTO:+0200
TZNAME:CEST
DTSTART:20240331T010000
END:DAYLIGHT
BEGIN:STANDARD
TZOFFSETFROM:+0200
TZOFFSETTO:+0100
TZNAME:CET
DTSTART:20241027T010000
END:STANDARD
BEGIN:DAYLIGHT
TZOFFSETFROM:+0100
TZOFFSETTO:+0200
TZNAME:CEST
DTSTART:20250330T010000
END:DAYLIGHT
BEGIN:STANDARD
TZOFFSETFROM:+0200
TZOFFSETTO:+0100
TZNAME:CET
DTSTART:20251026T010000
END:STANDARD
BEGIN:DAYLIGHT
TZOFFSETFROM:+0100
TZOFFSETTO:+0200
TZNAME:CEST
DTSTART:20260329T010000
END:DAYLIGHT
BEGIN:STANDARD
TZOFFSETFROM:+0200
TZOFFSETTO:+0100
TZNAME:CET
DTSTART:20261025T010000
END:STANDARD
END:VTIMEZONE
BEGIN:VEVENT
DTSTART;TZID=Europe/Amsterdam:20250802T080000
DTEND;TZID=Europe/Amsterdam:20250803T170000
DTSTAMP:20260420T153505
CREATED:20250203T194425Z
LAST-MODIFIED:20250719T202238Z
UID:338537-1754121600-1754240400@www.krommeaar.nl
SUMMARY:2 & 3 augustus - IJssel 2-daagse
DESCRIPTION:Net als een jaar of 6\, 7 geleden gaan we weer in 2 dagen de prachtige IJssel afvaren en net als toen starten we in de Steeg.\nNa afloop van de eerste dag kamperen we op de Deventer stadscamping die aan de IJssel ligt. Op dag 2 varen we door naar Hattem\, waar we op dag 1 een auto hebben achtergelaten. \nVoor je je aanmeldt\, denk even na over het volgende:\n– op dag 1 varen we 55 kilometer waarvan we\, afhankelijk van de stroming\, 15 tot 20 km. cadeau krijgen.\n  Dat betekent dat je zonder problemen 35 moet kunnen varen op eigen kracht.\n– op dag 2 varen we ‘slechts’ 35 km. maar dan heb je misschien nog de inspanning van de vorige dag in de armen. \nVerder is het goed om te beseffen dat er op dag 1 geen mogelijkheid is om eerder te stoppen\, er rijdt geen bezemwagen mee.\nMocht je op dag 2 besluiten om niet door te varen\, dan kunnnen we je na afloop wel ergens ophalen.   \nOp woensdag 30 juli is er een voorbespreking waarin we het zullen hebben over o.a. het vervoer\, vertrektijd enz.  \nLaden…
URL:https://www.krommeaar.nl/event/2-3-augustus-ijssel-2-daagse/
CATEGORIES:Meerdaagse binnenwatertocht
END:VEVENT
BEGIN:VEVENT
DTSTART;TZID=Europe/Amsterdam:20230812T090000
DTEND;TZID=Europe/Amsterdam:20230814T170000
DTSTAMP:20260420T153505
CREATED:20230108T131718Z
LAST-MODIFIED:20230723T112744Z
UID:337002-1691830800-1692032400@www.krommeaar.nl
SUMMARY:Rondje Schiermonnikoog
DESCRIPTION:Dit is een tocht voor de ervaren zeevaarder.\nOp zaterdag rijden we naar een camping in de buurt van Lauwersoog\, op zondag vertrekken we vroeg en varen in 1 dag tegen de wijzers van de klok in\, rond Schiermonnikoog. Dit uiteraard alleen als het weer en de zee het mogelijk maken.\nOp maandag slapen we uit\, pakken rustig alles in en rijden we weer naar huis. \nAls de omstandigheden het rondje onmogelijk maken\, zoeken we een alternatief. \nLaden…
URL:https://www.krommeaar.nl/event/rondje-schiermonnikoog/
LOCATION:Lauwersoog
CATEGORIES:Meerdaagse grootwater/zeetocht
END:VEVENT
BEGIN:VEVENT
DTSTART;TZID=Europe/Amsterdam:20230715T083000
DTEND;TZID=Europe/Amsterdam:20230715T170000
DTSTAMP:20260420T153505
CREATED:20230113T194552Z
LAST-MODIFIED:20230627T175153Z
UID:337078-1689409800-1689440400@www.krommeaar.nl
SUMMARY:Amsterdam - Alphen
DESCRIPTION:Op zaterdag 15 juli organiseert AKV een prachtige tocht van Amsterdam naar Alphen.\nDeze tocht is eerder\, namelijk 5 jaar geleden\, door 7 AKVers gevaren. \n‘s-ochtends laten we ons wegbrengen naar het startpunt in Amsterdam Noord.\n Vanaf het IJ varen we door Amsterdam richting de Amstel. We volgen de Amstel tot de Tolhuis sluis en vandaar via het Aar-kanaal naar ons kanohuis. \nEr zijn een aantal aandachtspunten:\nDe tocht is ongeveer 40KM lang. Een goede conditie en wat vaarkilometers zijn dus vereist;\nDe tocht voert deels over groot water (IJ)\, en we moeten tijdens de tocht verder rekening houden met onrustig water en golven door andere boten;\nZwemvest MOET mee\, de tochtleiding besluit wanneer deze verplicht gedragen moet worden;\nStem je koek en zopie af op je eigen behoefte en de weersvoorspelling. Behalve voldoende drinken is voor deze lange tocht ook voldoende eten erg belangrijk.\nIn verband met de organisatie van vervoer sluit de inschrijving op zaterdag 8 juli.\nIndien je de tocht niet wil meevaren\, maar wel iets kunt betekenen bij het vervoer (wegbrengen naar Amsterdam)\, dit graag melden bij Evert Groeneveld (evert@egroeneveld.nl). \nLaden…
URL:https://www.krommeaar.nl/event/amsterdam-alphen/
CATEGORIES:Binnenwatertocht
END:VEVENT
BEGIN:VEVENT
DTSTART;TZID=Europe/Amsterdam:20230521T090000
DTEND;TZID=Europe/Amsterdam:20230521T170000
DTSTAMP:20260420T153505
CREATED:20230108T131427Z
LAST-MODIFIED:20230503T185415Z
UID:337000-1684659600-1684688400@www.krommeaar.nl
SUMMARY:Rondje Venen - Gaat niet door!
DESCRIPTION:In verband met afwezigheid van mogelijke tochtleiders gaat deze tocht dit jaar niet door.\nVolgend jaar een herkansing\,
URL:https://www.krommeaar.nl/event/rondje-venen/
LOCATION:Kanohuis
CATEGORIES:Binnenwatertocht
END:VEVENT
END:VCALENDAR